BEGIN:VCALENDAR
VERSION:2.0
PRODID:-//Plone.org//NONSGML plone.app.event//EN
X-WR-TIMEZONE:Europe/Berlin
BEGIN:VEVENT
SUMMARY:The United Nations on the Eve of Its 80th Anniversary: Contestatio
 n\, Resilience and Change
DTSTART;TZID=Europe/Berlin:20241128T143000
DTEND;TZID=Europe/Berlin:20241129T130000
DTSTAMP:20260420T095937Z
UID:840ada283b834c858d1a53f6c71e7890@plone6.unife.it:8059
CATEGORIES:ricerca,dottorato
CONTACT:gvrkry@unife.it
CREATED:20241011T082811Z
LAST-MODIFIED:20241015T073552Z
LOCATION:Dipartimento di Giurisprudenza - Sala Carlassare
URL:https://de.unife.it/giuri/it/eventi/the-united-nations-on-the-eve-of-i
 ts-80th-anniversary-contestation-resilience-and-change
END:VEVENT
BEGIN:VTIMEZONE
TZID:Europe/Berlin
X-LIC-LOCATION:Europe/Berlin
BEGIN:STANDARD
DTSTART:20241027T020000
TZNAME:CET
TZOFFSETFROM:+0200
TZOFFSETTO:+0100
END:STANDARD
END:VTIMEZONE
END:VCALENDAR
