BEGIN:VCALENDAR
VERSION:2.0
PRODID:-//Plone.org//NONSGML plone.app.event//EN
X-WR-TIMEZONE:Europe/Berlin
BEGIN:VEVENT
SUMMARY:Tina Anselmi. La donna delle riforme sociali
DTSTART;TZID=Europe/Berlin:20260306T140000
DTEND;TZID=Europe/Berlin:20260306T180000
DTSTAMP:20260420T083703Z
UID:4d4a0453ecf0463ead0d6e88d70756c3@plone6.unife.it:8059
CATEGORIES:terza-missione
CREATED:20260203T133530Z
DESCRIPTION:Percorsi di Formazione per l’Educazione Civica
LAST-MODIFIED:20260216T100602Z
LOCATION:Aula Magna Luigi Costato – Palazzo Angeli
URL:https://de.unife.it/giuri/it/eventi/tina-anselmi-la-donna-delle-riform
 e-sociali
END:VEVENT
BEGIN:VTIMEZONE
TZID:Europe/Berlin
X-LIC-LOCATION:Europe/Berlin
BEGIN:STANDARD
DTSTART:20251026T020000
TZNAME:CET
TZOFFSETFROM:+0200
TZOFFSETTO:+0100
END:STANDARD
END:VTIMEZONE
END:VCALENDAR
