BEGIN:VCALENDAR
VERSION:2.0
PRODID:-//Plone.org//NONSGML plone.app.event//EN
X-WR-TIMEZONE:Europe/Berlin
BEGIN:VEVENT
SUMMARY:Tra emergenze\, competenze e democrazia
DTSTART;TZID=Europe/Berlin:20251105T110000
DTEND;TZID=Europe/Berlin:20251105T130000
DTSTAMP:20260420T083451Z
UID:d8d4fdd70bd541c8a9ffeae92c08db25@plone6.unife.it:8059
CATEGORIES:didattica-ferrara
CREATED:20251016T124037Z
DESCRIPTION:Il Regolamento sul rafforzamento dell’industria bellica (SAF
 E) dinanzi alla Corte di giustizia
LAST-MODIFIED:20251016T124053Z
LOCATION:Aula Magna di Palazzo Turchi di Bagno (corso Ercole I° d’Este 
 32\, Ferrara) e online
URL:https://de.unife.it/giuri/it/eventi/tra-emergenze-competenze-e-democra
 zia
END:VEVENT
BEGIN:VTIMEZONE
TZID:Europe/Berlin
X-LIC-LOCATION:Europe/Berlin
BEGIN:STANDARD
DTSTART:20251026T020000
TZNAME:CET
TZOFFSETFROM:+0200
TZOFFSETTO:+0100
END:STANDARD
END:VTIMEZONE
END:VCALENDAR
