BEGIN:VCALENDAR
VERSION:2.0
PRODID:-//Plone.org//NONSGML plone.app.event//EN
X-WR-TIMEZONE:Europe/Berlin
BEGIN:VEVENT
SUMMARY:Trent’anni e più:  il lungo cammino di riforme  del lavoro pubb
 lico
DTSTART;TZID=Europe/Berlin:20260330T110000
DTEND;TZID=Europe/Berlin:20260330T130000
DTSTAMP:20260420T083829Z
UID:4db3c3d2e2814ca7905ec577ca06d85a@plone6.unife.it:8059
CATEGORIES:didattica-ferrara
CREATED:20260325T115815Z
DESCRIPTION:Lectio magistralis
LAST-MODIFIED:20260325T115843Z
LOCATION:Dipartimento di Giurisprudenza - Aula 5
URL:https://de.unife.it/giuri/it/eventi/trent2019anni-e-piu-il-lungo-cammi
 no-di-riforme-del-lavoro-pubblico
END:VEVENT
BEGIN:VTIMEZONE
TZID:Europe/Berlin
X-LIC-LOCATION:Europe/Berlin
BEGIN:DAYLIGHT
DTSTART:20260329T030000
TZNAME:CEST
TZOFFSETFROM:+0100
TZOFFSETTO:+0200
END:DAYLIGHT
END:VTIMEZONE
END:VCALENDAR
