BEGIN:VCALENDAR
VERSION:2.0
PRODID:-//Plone.org//NONSGML plone.app.event//EN
X-WR-TIMEZONE:Europe/Berlin
BEGIN:VEVENT
SUMMARY:UHNWI\, Wealth Structures and cross-border investments
DTSTART;TZID=Europe/Berlin:20251119T090000
DTEND;TZID=Europe/Berlin:20251119T110000
DTSTAMP:20260420T083554Z
UID:d727888679834a4ebec8d38ad984d21a@plone6.unife.it:8059
CATEGORIES:ricerca,dottorato
CREATED:20251110T085321Z
DESCRIPTION:An International Tax law perspective
LAST-MODIFIED:20251110T085729Z
LOCATION:Rovigo Campus - Via Domenico Angeli\, 28 Blue Hall
URL:https://de.unife.it/giuri/it/eventi/uhnwi-wealth-structures-and-cross-
 border-investments
END:VEVENT
BEGIN:VTIMEZONE
TZID:Europe/Berlin
X-LIC-LOCATION:Europe/Berlin
BEGIN:STANDARD
DTSTART:20251026T020000
TZNAME:CET
TZOFFSETFROM:+0200
TZOFFSETTO:+0100
END:STANDARD
END:VTIMEZONE
END:VCALENDAR
