BEGIN:VCALENDAR
VERSION:2.0
PRODID:-//Plone.org//NONSGML plone.app.event//EN
X-WR-TIMEZONE:Europe/Berlin
BEGIN:VEVENT
SUMMARY:Uso della forza e polizia. Limiti\, diritti e abusi
DTSTART;TZID=Europe/Berlin:20241014T103000
DTEND;TZID=Europe/Berlin:20241014T133000
DTSTAMP:20260420T082924Z
UID:7549943232ae4b56b2c5e92e1424203b@plone6.unife.it:8059
CATEGORIES:didattica-ferrara
CREATED:20241004T075159Z
LAST-MODIFIED:20241004T075634Z
LOCATION:Aula 7\, Dipartimento di Giurisprudenza - sede di Ferrara
URL:https://de.unife.it/giuri/it/eventi/uso-della-forza-e-polizia-limiti-d
 iritti-e-abusi
END:VEVENT
BEGIN:VTIMEZONE
TZID:Europe/Berlin
X-LIC-LOCATION:Europe/Berlin
BEGIN:DAYLIGHT
DTSTART:20240331T030000
TZNAME:CEST
TZOFFSETFROM:+0100
TZOFFSETTO:+0200
END:DAYLIGHT
END:VTIMEZONE
END:VCALENDAR
