BEGIN:VCALENDAR
VERSION:2.0
PRODID:-//Plone.org//NONSGML plone.app.event//EN
X-WR-TIMEZONE:Europe/Berlin
BEGIN:VEVENT
SUMMARY:Verba volant\, sed imperant?  The Legal Challenges of EU Communica
 tion
DTSTART;TZID=Europe/Berlin:20240906T090000
DTEND;TZID=Europe/Berlin:20240906T170000
DTSTAMP:20260420T083829Z
UID:bbd979924745455dacac5cb0b7fac19e@plone6.unife.it:8059
CATEGORIES:ricerca
CREATED:20240716T065731Z
DESCRIPTION:Inaugural Conference of the Jean Monnet Chair
LAST-MODIFIED:20240923T064140Z
LOCATION:Sala Carlassare\, Dipartimento di Giurisprudenza - sede di Ferrar
 a
URL:https://de.unife.it/giuri/it/eventi/verba-volant-sed-imperant-the-lega
 l-challenges-of-eu-communication
END:VEVENT
BEGIN:VTIMEZONE
TZID:Europe/Berlin
X-LIC-LOCATION:Europe/Berlin
BEGIN:DAYLIGHT
DTSTART:20240331T030000
TZNAME:CEST
TZOFFSETFROM:+0100
TZOFFSETTO:+0200
END:DAYLIGHT
END:VTIMEZONE
END:VCALENDAR
