BEGIN:VCALENDAR
VERSION:2.0
PRODID:-//Plone.org//NONSGML plone.app.event//EN
X-WR-TIMEZONE:Europe/Berlin
BEGIN:VEVENT
SUMMARY:VESSATORIETÀ E TRASPARENZA DELLE CLAUSOLE DEI CONTRATTI B-TO-C FR
 A AGCM\, GIUDIZIO AMMINISTRATIVO E GIUDIZIO CIVILE
DTSTART;TZID=Europe/Berlin:20260205T143000
DTEND;TZID=Europe/Berlin:20260206T140000
DTSTAMP:20260420T084026Z
UID:768904d2a3c749059ed203e9789d2010@plone6.unife.it:8059
CATEGORIES:dottorato
CREATED:20260109T075604Z
LAST-MODIFIED:20260109T080624Z
LOCATION:Dipartimento di Giurisprudenza\, Aula Magna
URL:https://de.unife.it/giuri/it/eventi/vessatorieta-e-trasparenza-delle-c
 lausole-dei-contratti-b-to-c-fra-agcm-giudizio-amministrativo-e-giudizio-c
 ivile
END:VEVENT
BEGIN:VTIMEZONE
TZID:Europe/Berlin
X-LIC-LOCATION:Europe/Berlin
BEGIN:STANDARD
DTSTART:20251026T020000
TZNAME:CET
TZOFFSETFROM:+0200
TZOFFSETTO:+0100
END:STANDARD
END:VTIMEZONE
END:VCALENDAR
