BEGIN:VCALENDAR
VERSION:2.0
PRODID:-//Plone.org//NONSGML plone.app.event//EN
X-WR-TIMEZONE:Europe/Berlin
BEGIN:VEVENT
SUMMARY:Vicende della delazione ereditaria
DTSTART;TZID=Europe/Berlin:20250328T150000
DTEND;TZID=Europe/Berlin:20250328T180000
DTSTAMP:20260420T082924Z
UID:ae54bb77a70247adaa4a2833c4b8198f@plone6.unife.it:8059
CATEGORIES:ricerca
CREATED:20250313T103240Z
LAST-MODIFIED:20250313T103301Z
LOCATION:Aula Magna “Luigi Costato” - Palazzo Angeli - Rovigo
URL:https://de.unife.it/giuri/it/eventi/vicende-della-delazione-ereditaria
END:VEVENT
BEGIN:VTIMEZONE
TZID:Europe/Berlin
X-LIC-LOCATION:Europe/Berlin
BEGIN:STANDARD
DTSTART:20241027T020000
TZNAME:CET
TZOFFSETFROM:+0200
TZOFFSETTO:+0100
END:STANDARD
END:VTIMEZONE
END:VCALENDAR
