BEGIN:VCALENDAR
VERSION:2.0
PRODID:-//Plone.org//NONSGML plone.app.event//EN
X-WR-TIMEZONE:Europe/Berlin
BEGIN:VEVENT
SUMMARY:WE Frame Seminars
DTSTART;TZID=Europe/Berlin:20251028T173000
DTEND;TZID=Europe/Berlin:20251028T193000
DTSTAMP:20260420T081905Z
UID:60f203be829d48ac9b82677bfa28405d@plone6.unife.it:8059
CATEGORIES:terza-missione,ricerca
CONTACT:https://weframeproject.eu/we-frame-seminars/
CREATED:20251023T075323Z
LAST-MODIFIED:20251023T075400Z
LOCATION:Online
URL:https://de.unife.it/giuri/it/eventi/we-frame-seminars
END:VEVENT
BEGIN:VTIMEZONE
TZID:Europe/Berlin
X-LIC-LOCATION:Europe/Berlin
BEGIN:STANDARD
DTSTART:20251026T020000
TZNAME:CET
TZOFFSETFROM:+0200
TZOFFSETTO:+0100
END:STANDARD
END:VTIMEZONE
END:VCALENDAR
