BEGIN:VCALENDAR
VERSION:2.0
PRODID:-//Plone.org//NONSGML plone.app.event//EN
X-WR-TIMEZONE:Europe/Berlin
BEGIN:VEVENT
SUMMARY:Wealth management and taxation
DTSTART;TZID=Europe/Berlin:20251003T110000
DTEND;TZID=Europe/Berlin:20251003T123000
DTSTAMP:20260420T095512Z
UID:113e57c9ec0a43bfad35dd466fef0492@plone6.unife.it:8059
CATEGORIES:dottorato
CREATED:20250930T142337Z
DESCRIPTION:The South African Case
LAST-MODIFIED:20250930T142353Z
LOCATION:Palazzo Trotti-Mosti\, Meeting Hall
URL:https://de.unife.it/giuri/it/eventi/wealth-management-and-taxation
END:VEVENT
BEGIN:VTIMEZONE
TZID:Europe/Berlin
X-LIC-LOCATION:Europe/Berlin
BEGIN:DAYLIGHT
DTSTART:20250330T030000
TZNAME:CEST
TZOFFSETFROM:+0100
TZOFFSETTO:+0200
END:DAYLIGHT
END:VTIMEZONE
END:VCALENDAR
