BEGIN:VCALENDAR
VERSION:2.0
PRODID:-//Plone.org//NONSGML plone.app.event//EN
X-WR-TIMEZONE:Europe/Berlin
BEGIN:VEVENT
SUMMARY:X Edizione | 22 – 31 Ottobre  2025 | Festival della Migrazione
DTSTART;TZID=Europe/Berlin:20251027T120000
DTEND;TZID=Europe/Berlin:20251029T130000
DTSTAMP:20260420T095937Z
UID:894c96b6c833434b9dfde55f9deed256@plone6.unife.it:8059
CATEGORIES:dottorato,terza-missione
CREATED:20251023T104255Z
LAST-MODIFIED:20251023T104311Z
LOCATION:Sedi di Ferrara e Rovigo
URL:https://de.unife.it/giuri/it/eventi/x-edizione-22-2013-31-ottobre-2025
 -festival-della-migrazione
END:VEVENT
BEGIN:VTIMEZONE
TZID:Europe/Berlin
X-LIC-LOCATION:Europe/Berlin
BEGIN:STANDARD
DTSTART:20251026T020000
TZNAME:CET
TZOFFSETFROM:+0200
TZOFFSETTO:+0100
END:STANDARD
END:VTIMEZONE
END:VCALENDAR
