BEGIN:VCALENDAR
VERSION:2.0
PRODID:-//Plone.org//NONSGML plone.app.event//EN
X-WR-TIMEZONE:Europe/Berlin
BEGIN:VEVENT
SUMMARY:Sguardi verso il futuro: a proposito della legge 13 giugno 2025\, 
 n. 89\, in materia di economia dello spazio
DTSTART;TZID=Europe/Berlin:20251210T140000
DTEND;TZID=Europe/Berlin:20251210T180000
DTSTAMP:20260420T084026Z
UID:74f0f06d534347d1aad1a938be2d9add@plone6.unife.it:8059
CATEGORIES:ricerca
CREATED:20251211T094905Z
LAST-MODIFIED:20251211T095157Z
LOCATION:Campus delle Scienze Sociali\, Firenze
URL:https://de.unife.it/giuri/it/sguardi-verso-il-futuro-a-proposito-della
 -legge-13-giugno-2025-n-89-in-materia-di-economia-dello-spazio
END:VEVENT
BEGIN:VTIMEZONE
TZID:Europe/Berlin
X-LIC-LOCATION:Europe/Berlin
BEGIN:STANDARD
DTSTART:20251026T020000
TZNAME:CET
TZOFFSETFROM:+0200
TZOFFSETTO:+0100
END:STANDARD
END:VTIMEZONE
END:VCALENDAR
