BEGIN:VCALENDAR
VERSION:2.0
PRODID:-//Plone.org//NONSGML plone.app.event//EN
X-WR-TIMEZONE:Europe/Berlin
BEGIN:VEVENT
SUMMARY:Standardizzazione\, modelli organizzativi e responsabilità penale
DTSTART;TZID=Europe/Berlin:20260429T110000
DTEND;TZID=Europe/Berlin:20260429T130000
DTSTAMP:20260420T082452Z
UID:290078eb9c4f425797f2fbe91ff8330e@plone6.unife.it:8059
CATEGORIES:ricerca,didattica-ferrara
CREATED:20260407T140432Z
LAST-MODIFIED:20260407T141416Z
LOCATION:Dipartimeto di Giurisprudenza - Sede di Ferrara\, aula 5
URL:https://de.unife.it/giuri/it/standardizzazione-modelli-organizzativi-e
 -responsabilita-penale
END:VEVENT
BEGIN:VTIMEZONE
TZID:Europe/Berlin
X-LIC-LOCATION:Europe/Berlin
BEGIN:DAYLIGHT
DTSTART:20260329T030000
TZNAME:CEST
TZOFFSETFROM:+0100
TZOFFSETTO:+0200
END:DAYLIGHT
END:VTIMEZONE
END:VCALENDAR
